BEGIN:VCALENDAR
VERSION:2.0
PRODID:-//Tukios.com/
BEGIN:VEVENT
UID:10338496-adc5-45c4-abee-02e5de7cfd20@www.castillofuneral.com
DTSTAMP:20260421T185017Z
DTSTART:20260430T190000Z
DTEND:20260430T230000Z
SUMMARY:Visitation with Family
DESCRIPTION:
URL:https://www.castillofuneral.com/obituaries/keith-kaighin-sr
LOCATION: 1757 Tremainsville Rd  Toledo OH 43613
GEO:41.6932058;-83.5866453
END:VEVENT
END:VCALENDAR