BEGIN:VCALENDAR
VERSION:2.0
PRODID:-//Tukios.com/
BEGIN:VEVENT
UID:6ca76308-78a3-4ab4-a78f-d3651b2c8b41@www.castillofuneral.com
DTSTAMP:20260421T184910Z
DTSTART:20260430T230000Z
DTEND:20260501T000000Z
SUMMARY:Celebration of Life
DESCRIPTION:
URL:https://www.castillofuneral.com/obituaries/keith-kaighin-sr
LOCATION: 1757 Tremainsville Rd  Toledo OH 43613
GEO:41.6932058;-83.5866453
END:VEVENT
END:VCALENDAR